BEGIN:VCALENDAR
VERSION:2.0
PRODID:icalendar-ruby
CALSCALE:GREGORIAN
BEGIN:VEVENT
DTSTAMP:20260420T110134Z
UID:1e4e32e3-0861-4994-88fb-0ef5e9f76878
DTSTART;VALUE=DATE:20220203
DESCRIPTION:Property ID# 526427\, Locatoin: 21 Ganges Road\, Khandallah\, T
 ime: 1:00PM
SUMMARY:Auction for 
END:VEVENT
END:VCALENDAR
